BEGIN:VCALENDAR
VERSION:2.0
PRODID:-//hacksw/handcal//NONSGML v1.0//EN
BEGIN:VEVENT
SUMMARY:10° Tournoi Open
UID:4141c966-7e71-497e-9b09-550c3ebcefd4
DTSTART:20260627T114500Z
DTEND:20260627T160000Z
LOCATION:Localisation   
CATEGORIES:Sportif
STATUS:
URL;VALUE=URI:https://www.mesquer-bridge.com/evenements/2026/06/27/10-tournoi-open-2436256
END:VEVENT
END:VCALENDAR
