BEGIN:VCALENDAR
VERSION:2.0
PRODID:-//hacksw/handcal//NONSGML v1.0//EN
BEGIN:VEVENT
SUMMARY:Tournoi Interne
UID:92543c2f-6d02-43d1-bdba-80eeb45814b3
DTSTART:20260615T114500Z
DTEND:20260615T154500Z
LOCATION:Localisation   
CATEGORIES:Sportif
STATUS:
URL;VALUE=URI:https://www.mesquer-bridge.com/evenements/2026/06/15/tournoi-interne-2436230
END:VEVENT
END:VCALENDAR
