BEGIN:VCALENDAR
VERSION:2.0
PRODID:-//hacksw/handcal//NONSGML v1.0//EN
BEGIN:VEVENT
SUMMARY:Simultane du Roy Rene
UID:cce56cb0-1d03-4bc5-9b5b-d8f2f2e76f12
DTSTART:20260527T114500Z
DTEND:20260527T154500Z
LOCATION:Localisation   
CATEGORIES:Sportif
STATUS:
URL;VALUE=URI:https://www.mesquer-bridge.com/evenements/2026/05/27/simultane-du-roy-rene-2436239
END:VEVENT
END:VCALENDAR
