BEGIN:VCALENDAR
VERSION:2.0
PRODID:-//hacksw/handcal//NONSGML v1.0//EN
BEGIN:VEVENT
SUMMARY:Tournoi Interne
UID:fee03b4a-4c17-4822-9bb5-a44c11564c14
DTSTART:20260525T114500Z
DTEND:20260525T154500Z
LOCATION:Localisation   
CATEGORIES:Sportif
STATUS:
URL;VALUE=URI:https://www.mesquer-bridge.com/evenements/2026/05/25/tournoi-interne-2436228
END:VEVENT
END:VCALENDAR
