BEGIN:VCALENDAR
VERSION:2.0
PRODID:-//hacksw/handcal//NONSGML v1.0//EN
BEGIN:VEVENT
SUMMARY:Tournoi de Regularite
UID:4761337a-6bfa-420f-91ff-102e7b50f330
DTSTART:20260520T114500Z
DTEND:20260520T154500Z
LOCATION:Localisation   
CATEGORIES:Sportif
STATUS:
URL;VALUE=URI:https://www.mesquer-bridge.com/evenements/2026/05/20/tournoi-de-regularite-2436240
END:VEVENT
END:VCALENDAR
