BEGIN:VCALENDAR
VERSION:2.0
PRODID:-//hacksw/handcal//NONSGML v1.0//EN
BEGIN:VEVENT
SUMMARY:Tournoi Interne
UID:144a61ed-6f37-472e-97ce-84b5a603f6c8
DTSTART:20260518T114500Z
DTEND:20260518T154500Z
LOCATION:Localisation   
CATEGORIES:Sportif
STATUS:
URL;VALUE=URI:https://www.mesquer-bridge.com/evenements/2026/05/18/tournoi-interne-2436224
END:VEVENT
END:VCALENDAR
