BEGIN:VCALENDAR
VERSION:2.0
PRODID:-//hacksw/handcal//NONSGML v1.0//EN
BEGIN:VEVENT
SUMMARY:Tournoi de Regularite
UID:4417b116-05ea-419c-8e14-e827395904b9
DTSTART:20260513T114500Z
DTEND:20260513T154500Z
LOCATION:Localisation   
CATEGORIES:Sportif
STATUS:
URL;VALUE=URI:https://www.mesquer-bridge.com/evenements/2026/05/13/tournoi-de-regularite-2436237
END:VEVENT
END:VCALENDAR
