BEGIN:VCALENDAR
VERSION:2.0
PRODID:-//hacksw/handcal//NONSGML v1.0//EN
BEGIN:VEVENT
SUMMARY:Tournoi Interne
UID:8eaa7933-8d68-4c5d-bda5-090de19bc769
DTSTART:20260511T114500Z
DTEND:20260511T154500Z
LOCATION:Localisation   
CATEGORIES:Sportif
STATUS:
URL;VALUE=URI:https://www.mesquer-bridge.com/evenements/2026/05/11/tournoi-interne-2436225
END:VEVENT
END:VCALENDAR
