BEGIN:VCALENDAR
VERSION:2.0
PRODID:-//hacksw/handcal//NONSGML v1.0//EN
BEGIN:VEVENT
SUMMARY:Tournoi par Equipe
UID:281029ec-61b7-4765-b7da-5870d555e2a7
DTSTART:20260429T080000Z
DTEND:20260429T154500Z
LOCATION:Localisation   
CATEGORIES:Sportif
STATUS:
URL;VALUE=URI:https://www.mesquer-bridge.com/evenements/2026/04/29/tournoi-par-equipe-2436235
END:VEVENT
END:VCALENDAR
