BEGIN:VCALENDAR
VERSION:2.0
PRODID:-//hacksw/handcal//NONSGML v1.0//EN
BEGIN:VEVENT
SUMMARY:Tournoi Interne
UID:553c5f9e-e82c-42f0-8e24-23e812ddc0dd
DTSTART:20260420T114500Z
DTEND:20260420T154500Z
LOCATION:Localisation   
CATEGORIES:Sportif
STATUS:
URL;VALUE=URI:https://www.mesquer-bridge.com/evenements/2026/04/20/tournoi-interne-2436232
END:VEVENT
END:VCALENDAR
