BEGIN:VCALENDAR
VERSION:2.0
PRODID:-//hacksw/handcal//NONSGML v1.0//EN
BEGIN:VEVENT
SUMMARY:Tournoi Chocolat
UID:1c8e7fe3-f717-49c2-9669-a89c5142728d
DTSTART:20260415T114500Z
DTEND:20260415T154500Z
LOCATION:Localisation   
CATEGORIES:Sportif
STATUS:
URL;VALUE=URI:https://www.mesquer-bridge.com/evenements/2026/04/15/tournoi-chocolat-2436244
END:VEVENT
END:VCALENDAR
